Package: CNORdt Version: 1.49.0 Command: E:\biocbuild\bbs-3.21-bioc\R\bin\R.exe CMD INSTALL CNORdt StartedAt: 2025-02-09 15:48:24 -0500 (Sun, 09 Feb 2025) EndedAt: 2025-02-09 15:48:38 -0500 (Sun, 09 Feb 2025) EllapsedTime: 14.1 seconds RetCode: 0 Status: OK