Package: CNORfuzzy Version: 1.49.0 Command: /Library/Frameworks/R.framework/Resources/bin/R CMD INSTALL CNORfuzzy StartedAt: 2025-02-09 15:15:01 -0500 (Sun, 09 Feb 2025) EndedAt: 2025-02-09 15:15:04 -0500 (Sun, 09 Feb 2025) EllapsedTime: 3.7 seconds RetCode: 0 Status: OK