Package: CNORfuzzy Version: 1.49.0 Command: /home/biocbuild/R/R/bin/R CMD build --keep-empty-dirs --no-resave-data CNORfuzzy StartedAt: 2025-01-28 21:59:18 -0000 (Tue, 28 Jan 2025) EndedAt: 2025-01-28 21:59:45 -0000 (Tue, 28 Jan 2025) EllapsedTime: 27.0 seconds RetCode: 0 Status: OK PackageFile: CNORfuzzy_1.49.0.tar.gz PackageFileSize: 1.044 MiB