Package: CNORfuzzy Version: 1.49.0 Command: /home/biocbuild/R/R/bin/R CMD INSTALL CNORfuzzy StartedAt: 2025-01-29 20:05:29 -0000 (Wed, 29 Jan 2025) EndedAt: 2025-01-29 20:05:42 -0000 (Wed, 29 Jan 2025) EllapsedTime: 12.7 seconds RetCode: 0 Status: OK