Package: CNORfuzzy Version: 1.49.0 Command: rm -rf CNORfuzzy.buildbin-libdir && mkdir CNORfuzzy.buildbin-libdir && /Users/biocbuild/BBS/utils/build-universal.sh CNORfuzzy_1.49.0.tar.gz /Library/Frameworks/R.framework/Resources/bin/R CNORfuzzy.buildbin-libdir StartedAt: 2025-02-10 00:47:21 -0500 (Mon, 10 Feb 2025) EndedAt: 2025-02-10 00:47:37 -0500 (Mon, 10 Feb 2025) EllapsedTime: 16.2 seconds RetCode: 0 Status: OK PackageFile: CNORfuzzy_1.49.0.tgz PackageFileSize: 692 KiB