Package: CNORfuzzy Version: 1.49.0 Command: /home/biocbuild/bbs-3.21-bioc/R/bin/R CMD INSTALL CNORfuzzy StartedAt: 2025-02-09 15:15:40 -0500 (Sun, 09 Feb 2025) EndedAt: 2025-02-09 15:15:48 -0500 (Sun, 09 Feb 2025) EllapsedTime: 8.5 seconds RetCode: 0 Status: OK