Package: CNORfuzzy Version: 1.49.0 Command: rm -rf CNORfuzzy.buildbin-libdir && mkdir CNORfuzzy.buildbin-libdir && E:\biocbuild\bbs-3.21-bioc\R\bin\R.exe CMD INSTALL --build --library=CNORfuzzy.buildbin-libdir CNORfuzzy_1.49.0.tar.gz StartedAt: 2025-02-06 07:46:22 -0500 (Thu, 06 Feb 2025) EndedAt: 2025-02-06 07:46:40 -0500 (Thu, 06 Feb 2025) EllapsedTime: 17.7 seconds RetCode: 0 Status: OK PackageFile: CNORfuzzy_1.49.0.zip PackageFileSize: 701.6 KiB