Package: CNORfuzzy Version: 1.49.0 Command: E:\biocbuild\bbs-3.21-bioc\R\bin\R.exe CMD check --no-multiarch --install=check:CNORfuzzy.install-out.txt --library=E:\biocbuild\bbs-3.21-bioc\R\library --no-vignettes --timings CNORfuzzy_1.49.0.tar.gz StartedAt: 2025-02-06 00:17:43 -0500 (Thu, 06 Feb 2025) EndedAt: 2025-02-06 00:19:20 -0500 (Thu, 06 Feb 2025) EllapsedTime: 97.0 seconds RetCode: 0 Status: OK CheckDir: CNORfuzzy.Rcheck Warnings: 0