Package: CNTools Version: 1.63.0 Maintainer: J. Zhang MaintainerEmail: jzhang at jimmy.harvard.edu git_url: https://git.bioconductor.org/packages/CNTools git_branch: devel git_last_commit: 05a59fd git_last_commit_date: 2024-10-29 09:31:36 -0500 (Tue, 29 Oct 2024)