Package: CNTools Version: 1.63.0 Command: /Library/Frameworks/R.framework/Resources/bin/R CMD check --install=check:CNTools.install-out.txt --library=/Library/Frameworks/R.framework/Resources/library --no-vignettes --timings CNTools_1.63.0.tar.gz StartedAt: 2025-02-09 18:35:42 -0500 (Sun, 09 Feb 2025) EndedAt: 2025-02-09 18:36:31 -0500 (Sun, 09 Feb 2025) EllapsedTime: 49.7 seconds RetCode: 0 Status: OK CheckDir: CNTools.Rcheck Warnings: 0