Package: CNTools Version: 1.63.0 Command: /home/biocbuild/R/R/bin/R CMD INSTALL CNTools StartedAt: 2025-01-29 20:16:25 -0000 (Wed, 29 Jan 2025) EndedAt: 2025-01-29 20:16:51 -0000 (Wed, 29 Jan 2025) EllapsedTime: 25.3 seconds RetCode: 0 Status: OK