Package: CNTools Version: 1.63.0 Command: rm -rf CNTools.buildbin-libdir && mkdir CNTools.buildbin-libdir && /Users/biocbuild/BBS/utils/build-universal.sh CNTools_1.63.0.tar.gz /Library/Frameworks/R.framework/Resources/bin/R CNTools.buildbin-libdir StartedAt: 2025-02-13 00:30:42 -0500 (Thu, 13 Feb 2025) EndedAt: 2025-02-13 00:31:11 -0500 (Thu, 13 Feb 2025) EllapsedTime: 29.0 seconds RetCode: 0 Status: OK PackageFile: CNTools_1.63.0.tgz PackageFileSize: 1.188 MiB