Package: CNTools Version: 1.63.0 Command: /Library/Frameworks/R.framework/Resources/bin/R CMD check --install=check:CNTools.install-out.txt --library=/Library/Frameworks/R.framework/Resources/library --no-vignettes --timings CNTools_1.63.0.tar.gz StartedAt: 2025-02-12 19:40:26 -0500 (Wed, 12 Feb 2025) EndedAt: 2025-02-12 19:42:48 -0500 (Wed, 12 Feb 2025) EllapsedTime: 142.5 seconds RetCode: 0 Status: OK CheckDir: CNTools.Rcheck Warnings: 0