Package: CNTools Version: 1.63.0 Command: chmod a+r CNTools -R && E:\biocbuild\bbs-3.21-bioc\R\bin\R.exe CMD build --keep-empty-dirs --no-resave-data CNTools StartedAt: 2025-02-09 17:57:15 -0500 (Sun, 09 Feb 2025) EndedAt: 2025-02-09 17:58:00 -0500 (Sun, 09 Feb 2025) EllapsedTime: 45.2 seconds RetCode: 0 Status: OK PackageFile: CNTools_1.63.0.tar.gz PackageFileSize: 868.6 KiB