Package: CNTools Version: 1.63.0 Command: E:\biocbuild\bbs-3.21-bioc\R\bin\R.exe CMD check --no-multiarch --install=check:CNTools.install-out.txt --library=E:\biocbuild\bbs-3.21-bioc\R\library --no-vignettes --timings CNTools_1.63.0.tar.gz StartedAt: 2025-02-09 23:47:31 -0500 (Sun, 09 Feb 2025) EndedAt: 2025-02-09 23:50:01 -0500 (Sun, 09 Feb 2025) EllapsedTime: 149.4 seconds RetCode: 0 Status: OK CheckDir: CNTools.Rcheck Warnings: 0