Package: CNVRanger Version: 1.23.0 Command: rm -rf CNVRanger.buildbin-libdir && mkdir CNVRanger.buildbin-libdir && /Users/biocbuild/BBS/utils/build-universal.sh CNVRanger_1.23.0.tar.gz /Library/Frameworks/R.framework/Resources/bin/R CNVRanger.buildbin-libdir StartedAt: 2025-02-09 22:09:59 -0500 (Sun, 09 Feb 2025) EndedAt: 2025-02-09 22:10:09 -0500 (Sun, 09 Feb 2025) EllapsedTime: 10.2 seconds RetCode: 0 Status: OK PackageFile: CNVRanger_1.23.0.tgz PackageFileSize: 2.071 MiB