Package: CNVRanger Version: 1.23.0 Command: /Library/Frameworks/R.framework/Resources/bin/R CMD INSTALL CNVRanger StartedAt: 2025-02-09 15:08:00 -0500 (Sun, 09 Feb 2025) EndedAt: 2025-02-09 15:08:10 -0500 (Sun, 09 Feb 2025) EllapsedTime: 9.6 seconds RetCode: 0 Status: OK