Package: CNVRanger Version: 1.23.0 Command: /home/biocbuild/R/R/bin/R CMD build --keep-empty-dirs --no-resave-data CNVRanger StartedAt: 2025-01-28 21:59:59 -0000 (Tue, 28 Jan 2025) EndedAt: 2025-01-28 22:05:23 -0000 (Tue, 28 Jan 2025) EllapsedTime: 324.1 seconds RetCode: 0 Status: OK PackageFile: CNVRanger_1.23.0.tar.gz PackageFileSize: 1.864 MiB