Package: CNVRanger Version: 1.23.0 Command: /home/biocbuild/R/R/bin/R CMD INSTALL CNVRanger StartedAt: 2025-01-29 19:47:03 -0000 (Wed, 29 Jan 2025) EndedAt: 2025-01-29 19:47:33 -0000 (Wed, 29 Jan 2025) EllapsedTime: 30.3 seconds RetCode: 0 Status: OK