Package: CNVRanger Version: 1.23.0 Command: /Library/Frameworks/R.framework/Resources/bin/R CMD check --install=check:CNVRanger.install-out.txt --library=/Library/Frameworks/R.framework/Resources/library --no-vignettes --timings CNVRanger_1.23.0.tar.gz StartedAt: 2025-02-12 19:40:50 -0500 (Wed, 12 Feb 2025) EndedAt: 2025-02-12 19:45:07 -0500 (Wed, 12 Feb 2025) EllapsedTime: 257.2 seconds RetCode: 0 Status: OK CheckDir: CNVRanger.Rcheck Warnings: 0