Package: CNVRanger Version: 1.23.0 Command: /home/biocbuild/bbs-3.21-bioc/R/bin/R CMD build --keep-empty-dirs --no-resave-data CNVRanger StartedAt: 2025-02-12 16:40:01 -0500 (Wed, 12 Feb 2025) EndedAt: 2025-02-12 16:43:20 -0500 (Wed, 12 Feb 2025) EllapsedTime: 199.2 seconds RetCode: 0 Status: OK PackageFile: CNVRanger_1.23.0.tar.gz PackageFileSize: 2.042 MiB