Package: CNVRanger Version: 1.23.0 Command: /home/biocbuild/bbs-3.21-bioc/R/bin/R CMD check --install=check:CNVRanger.install-out.txt --library=/home/biocbuild/bbs-3.21-bioc/R/site-library --timings CNVRanger_1.23.0.tar.gz StartedAt: 2025-02-12 21:01:54 -0500 (Wed, 12 Feb 2025) EndedAt: 2025-02-12 21:08:47 -0500 (Wed, 12 Feb 2025) EllapsedTime: 412.5 seconds RetCode: 0 Status: OK CheckDir: CNVRanger.Rcheck Warnings: 0