Package: CNVRanger Version: 1.23.0 Command: /home/biocbuild/bbs-3.21-bioc/R/bin/R CMD INSTALL CNVRanger StartedAt: 2025-02-12 15:24:29 -0500 (Wed, 12 Feb 2025) EndedAt: 2025-02-12 15:24:52 -0500 (Wed, 12 Feb 2025) EllapsedTime: 22.8 seconds RetCode: 0 Status: OK