Package: CNVRanger Version: 1.23.0 Command: rm -rf CNVRanger.buildbin-libdir && mkdir CNVRanger.buildbin-libdir && E:\biocbuild\bbs-3.21-bioc\R\bin\R.exe CMD INSTALL --build --library=CNVRanger.buildbin-libdir CNVRanger_1.23.0.tar.gz StartedAt: 2025-02-13 07:40:23 -0500 (Thu, 13 Feb 2025) EndedAt: 2025-02-13 07:40:54 -0500 (Thu, 13 Feb 2025) EllapsedTime: 31.5 seconds RetCode: 0 Status: OK PackageFile: CNVRanger_1.23.0.zip PackageFileSize: 1.872 MiB