Package: CNViz Version: 1.15.0 Command: rm -rf CNViz.buildbin-libdir && mkdir CNViz.buildbin-libdir && /Users/biocbuild/BBS/utils/build-universal.sh CNViz_1.15.0.tar.gz /Library/Frameworks/R.framework/Resources/bin/R CNViz.buildbin-libdir StartedAt: 2025-02-09 22:09:57 -0500 (Sun, 09 Feb 2025) EndedAt: 2025-02-09 22:10:17 -0500 (Sun, 09 Feb 2025) EllapsedTime: 20.4 seconds RetCode: 0 Status: OK PackageFile: CNViz_1.15.0.tgz PackageFileSize: 181.2 KiB