Package: CNViz Version: 1.15.0 Command: /Library/Frameworks/R.framework/Resources/bin/R CMD INSTALL CNViz StartedAt: 2025-02-09 15:16:49 -0500 (Sun, 09 Feb 2025) EndedAt: 2025-02-09 15:17:07 -0500 (Sun, 09 Feb 2025) EllapsedTime: 18.7 seconds RetCode: 0 Status: OK