Package: CNViz Version: 1.15.0 Command: /Library/Frameworks/R.framework/Resources/bin/R CMD INSTALL CNViz StartedAt: 2025-02-09 15:28:56 -0500 (Sun, 09 Feb 2025) EndedAt: 2025-02-09 15:29:58 -0500 (Sun, 09 Feb 2025) EllapsedTime: 62.3 seconds RetCode: 0 Status: OK