Package: CNViz Version: 1.15.0 Command: /home/biocbuild/bbs-3.21-bioc/R/bin/R CMD check --install=check:CNViz.install-out.txt --library=/home/biocbuild/bbs-3.21-bioc/R/site-library --timings CNViz_1.15.0.tar.gz StartedAt: 2025-02-09 21:04:08 -0500 (Sun, 09 Feb 2025) EndedAt: 2025-02-09 21:09:34 -0500 (Sun, 09 Feb 2025) EllapsedTime: 326.5 seconds RetCode: 0 Status: OK CheckDir: CNViz.Rcheck Warnings: 0