Package: CNVrd2 Version: 1.45.0 Command: /Library/Frameworks/R.framework/Resources/bin/R CMD build --keep-empty-dirs --no-resave-data CNVrd2 StartedAt: 2025-02-04 15:57:17 -0500 (Tue, 04 Feb 2025) EndedAt: 2025-02-04 15:57:48 -0500 (Tue, 04 Feb 2025) EllapsedTime: 31.3 seconds RetCode: 0 Status: OK PackageFile: CNVrd2_1.45.0.tar.gz PackageFileSize: 2.826 MiB