Package: CNVrd2 Version: 1.45.0 Command: /Library/Frameworks/R.framework/Resources/bin/R CMD INSTALL CNVrd2 StartedAt: 2025-02-04 15:11:20 -0500 (Tue, 04 Feb 2025) EndedAt: 2025-02-04 15:11:37 -0500 (Tue, 04 Feb 2025) EllapsedTime: 16.8 seconds RetCode: 0 Status: OK