Package: CNVrd2 Version: 1.45.0 Command: /home/biocbuild/R/R/bin/R CMD build --keep-empty-dirs --no-resave-data CNVrd2 StartedAt: 2025-01-28 22:00:04 -0000 (Tue, 28 Jan 2025) EndedAt: 2025-01-28 22:01:45 -0000 (Tue, 28 Jan 2025) EllapsedTime: 101.0 seconds RetCode: 0 Status: OK PackageFile: CNVrd2_1.45.0.tar.gz PackageFileSize: 2.833 MiB