Package: CNVrd2 Version: 1.45.0 Command: /home/biocbuild/R/R/bin/R CMD check --install=check:CNVrd2.install-out.txt --library=/home/biocbuild/R/R/site-library --no-vignettes --timings CNVrd2_1.45.0.tar.gz StartedAt: 2025-01-28 09:20:44 -0000 (Tue, 28 Jan 2025) EndedAt: 2025-01-28 09:24:14 -0000 (Tue, 28 Jan 2025) EllapsedTime: 210.2 seconds RetCode: 0 Status: OK CheckDir: CNVrd2.Rcheck Warnings: 0