Package: CNVrd2 Version: 1.45.0 Command: /home/biocbuild/R/R/bin/R CMD INSTALL CNVrd2 StartedAt: 2025-01-29 19:57:08 -0000 (Wed, 29 Jan 2025) EndedAt: 2025-01-29 19:58:03 -0000 (Wed, 29 Jan 2025) EllapsedTime: 55.0 seconds RetCode: 0 Status: OK