Package: CNVrd2 Version: 1.45.0 Command: rm -rf CNVrd2.buildbin-libdir && mkdir CNVrd2.buildbin-libdir && /Users/biocbuild/BBS/utils/build-universal.sh CNVrd2_1.45.0.tar.gz /Library/Frameworks/R.framework/Resources/bin/R CNVrd2.buildbin-libdir StartedAt: 2025-02-05 00:34:02 -0500 (Wed, 05 Feb 2025) EndedAt: 2025-02-05 00:35:00 -0500 (Wed, 05 Feb 2025) EllapsedTime: 58.0 seconds RetCode: 0 Status: OK PackageFile: CNVrd2_1.45.0.tgz PackageFileSize: 2.924 MiB