Package: CNVrd2 Version: 1.45.0 Command: /home/biocbuild/bbs-3.21-bioc/R/bin/R CMD build --keep-empty-dirs --no-resave-data CNVrd2 StartedAt: 2025-02-04 16:40:46 -0500 (Tue, 04 Feb 2025) EndedAt: 2025-02-04 16:41:57 -0500 (Tue, 04 Feb 2025) EllapsedTime: 71.1 seconds RetCode: 0 Status: OK PackageFile: CNVrd2_1.45.0.tar.gz PackageFileSize: 2.825 MiB