Package: CNVrd2 Version: 1.45.0 Command: rm -rf CNVrd2.buildbin-libdir && mkdir CNVrd2.buildbin-libdir && E:\biocbuild\bbs-3.21-bioc\R\bin\R.exe CMD INSTALL --build --library=CNVrd2.buildbin-libdir CNVrd2_1.45.0.tar.gz StartedAt: 2025-02-05 07:41:15 -0500 (Wed, 05 Feb 2025) EndedAt: 2025-02-05 07:42:05 -0500 (Wed, 05 Feb 2025) EllapsedTime: 50.1 seconds RetCode: 0 Status: OK PackageFile: CNVrd2_1.45.0.zip PackageFileSize: 2.64 MiB