Package: CNVrd2 Version: 1.45.0 Command: E:\biocbuild\bbs-3.21-bioc\R\bin\R.exe CMD INSTALL CNVrd2 StartedAt: 2025-02-04 16:11:13 -0500 (Tue, 04 Feb 2025) EndedAt: 2025-02-04 16:12:03 -0500 (Tue, 04 Feb 2025) EllapsedTime: 49.3 seconds RetCode: 0 Status: OK