Package: COCOA Version: 2.21.0 Command: /Library/Frameworks/R.framework/Resources/bin/R CMD build --keep-empty-dirs --no-resave-data COCOA StartedAt: 2025-02-12 15:57:13 -0500 (Wed, 12 Feb 2025) EndedAt: 2025-02-12 15:57:57 -0500 (Wed, 12 Feb 2025) EllapsedTime: 44.5 seconds RetCode: 0 Status: OK PackageFile: COCOA_2.21.0.tar.gz PackageFileSize: 3.457 MiB