Package: COCOA Version: 2.21.0 Command: /home/biocbuild/R/R/bin/R CMD build --keep-empty-dirs --no-resave-data COCOA StartedAt: 2025-01-28 22:00:45 -0000 (Tue, 28 Jan 2025) EndedAt: 2025-01-28 22:03:47 -0000 (Tue, 28 Jan 2025) EllapsedTime: 182.1 seconds RetCode: 0 Status: OK PackageFile: COCOA_2.21.0.tar.gz PackageFileSize: 2.785 MiB