Package: COCOA Version: 2.21.0 Command: rm -rf COCOA.buildbin-libdir && mkdir COCOA.buildbin-libdir && /Users/biocbuild/BBS/utils/build-universal.sh COCOA_2.21.0.tar.gz /Library/Frameworks/R.framework/Resources/bin/R COCOA.buildbin-libdir StartedAt: 2025-02-13 00:30:52 -0500 (Thu, 13 Feb 2025) EndedAt: 2025-02-13 00:31:51 -0500 (Thu, 13 Feb 2025) EllapsedTime: 59.0 seconds RetCode: 0 Status: OK PackageFile: COCOA_2.21.0.tgz PackageFileSize: 3.553 MiB