Package: COCOA Version: 2.21.0 Command: /Library/Frameworks/R.framework/Resources/bin/R CMD INSTALL COCOA StartedAt: 2025-02-12 15:37:37 -0500 (Wed, 12 Feb 2025) EndedAt: 2025-02-12 15:38:34 -0500 (Wed, 12 Feb 2025) EllapsedTime: 56.8 seconds RetCode: 0 Status: OK