Package: COCOA Version: 2.21.0 Command: /home/biocbuild/bbs-3.21-bioc/R/bin/R CMD build --keep-empty-dirs --no-resave-data COCOA StartedAt: 2025-02-12 16:40:06 -0500 (Wed, 12 Feb 2025) EndedAt: 2025-02-12 16:41:50 -0500 (Wed, 12 Feb 2025) EllapsedTime: 104.1 seconds RetCode: 0 Status: OK PackageFile: COCOA_2.21.0.tar.gz PackageFileSize: 3.792 MiB