Package: COCOA Version: 2.21.0 Command: /home/biocbuild/bbs-3.21-bioc/R/bin/R CMD check --install=check:COCOA.install-out.txt --library=/home/biocbuild/bbs-3.21-bioc/R/site-library --timings COCOA_2.21.0.tar.gz StartedAt: 2025-02-09 21:04:55 -0500 (Sun, 09 Feb 2025) EndedAt: 2025-02-09 21:11:19 -0500 (Sun, 09 Feb 2025) EllapsedTime: 383.5 seconds RetCode: 0 Status: OK CheckDir: COCOA.Rcheck Warnings: 0