Package: COCOA Version: 2.21.0 Command: /home/biocbuild/bbs-3.21-bioc/R/bin/R CMD INSTALL COCOA StartedAt: 2025-02-09 15:36:17 -0500 (Sun, 09 Feb 2025) EndedAt: 2025-02-09 15:37:01 -0500 (Sun, 09 Feb 2025) EllapsedTime: 43.6 seconds RetCode: 0 Status: OK