Package: COCOA Version: 2.21.0 Command: rm -rf COCOA.buildbin-libdir && mkdir COCOA.buildbin-libdir && E:\biocbuild\bbs-3.21-bioc\R\bin\R.exe CMD INSTALL --build --library=COCOA.buildbin-libdir COCOA_2.21.0.tar.gz StartedAt: 2025-02-10 07:30:01 -0500 (Mon, 10 Feb 2025) EndedAt: 2025-02-10 07:30:55 -0500 (Mon, 10 Feb 2025) EllapsedTime: 53.9 seconds RetCode: 0 Status: OK PackageFile: COCOA_2.21.0.zip PackageFileSize: 2.776 MiB