Package: COCOA Version: 2.21.0 Command: E:\biocbuild\bbs-3.21-bioc\R\bin\R.exe CMD check --no-multiarch --install=check:COCOA.install-out.txt --library=E:\biocbuild\bbs-3.21-bioc\R\library --no-vignettes --timings COCOA_2.21.0.tar.gz StartedAt: 2025-02-12 23:58:21 -0500 (Wed, 12 Feb 2025) EndedAt: 2025-02-13 00:04:46 -0500 (Thu, 13 Feb 2025) EllapsedTime: 385.0 seconds RetCode: 0 Status: OK CheckDir: COCOA.Rcheck Warnings: 0