Package: COCOA Version: 2.21.0 Command: E:\biocbuild\bbs-3.21-bioc\R\bin\R.exe CMD INSTALL COCOA StartedAt: 2025-02-12 16:42:16 -0500 (Wed, 12 Feb 2025) EndedAt: 2025-02-12 16:43:07 -0500 (Wed, 12 Feb 2025) EllapsedTime: 50.8 seconds RetCode: 0 Status: OK