Package: CONSTANd Version: 1.15.0 Command: /home/biocbuild/R/R/bin/R CMD build --keep-empty-dirs --no-resave-data CONSTANd StartedAt: 2025-01-28 22:05:47 -0000 (Tue, 28 Jan 2025) EndedAt: 2025-01-28 22:06:01 -0000 (Tue, 28 Jan 2025) EllapsedTime: 14.0 seconds RetCode: 0 Status: OK PackageFile: CONSTANd_1.15.0.tar.gz PackageFileSize: 1.436 MiB