Package: CONSTANd Version: 1.15.0 Command: /home/biocbuild/R/R/bin/R CMD check --install=check:CONSTANd.install-out.txt --library=/home/biocbuild/R/R/site-library --no-vignettes --timings CONSTANd_1.15.0.tar.gz StartedAt: 2025-01-28 09:26:44 -0000 (Tue, 28 Jan 2025) EndedAt: 2025-01-28 09:26:58 -0000 (Tue, 28 Jan 2025) EllapsedTime: 14.0 seconds RetCode: 0 Status: OK CheckDir: CONSTANd.Rcheck Warnings: 0