Package: CONSTANd Version: 1.15.0 Command: /Library/Frameworks/R.framework/Resources/bin/R CMD build --keep-empty-dirs --no-resave-data CONSTANd StartedAt: 2025-02-09 16:22:24 -0500 (Sun, 09 Feb 2025) EndedAt: 2025-02-09 16:22:38 -0500 (Sun, 09 Feb 2025) EllapsedTime: 13.8 seconds RetCode: 0 Status: OK PackageFile: CONSTANd_1.15.0.tar.gz PackageFileSize: 1.696 MiB